BEGIN:VCALENDAR
VERSION:2.0
PRODID:-//Library Market//iCal Export//EN
BEGIN:VEVENT
SUMMARY:Kid Craft: Beaded Sunglasses!
UID:31555
DTSTAMP:20260420T154900Z
DTSTART:20260630T193000Z
DTEND:20260630T203000Z
LOCATION:James Blackstone Memorial Library, 758 Main St, Branford, CT 0640
 5, United States
ROOM: Auditorium
DESCRIPTION:Customize your own pair of sunglasses! Using some colorful bea
 ds, create the perfect design that will keep you looking cool all summer l
 ong! Grades K-4. 
URL:https://events.blackstonelibrary.org/event/kid-craft-sunglasses-31555
END:VEVENT
END:VCALENDAR
