BEGIN:VCALENDAR
VERSION:2.0
PRODID:-//Library Market//iCal Export//EN
BEGIN:VEVENT
SUMMARY:Science Saturday with Cool-ology for grades K-4
UID:31519
DTSTAMP:20260420T143100Z
DTSTART:20260606T140000Z
DTEND:20260606T150000Z
LOCATION:James Blackstone Memorial Library, 758 Main St, Branford, CT 0640
 5, United States
ROOM: Auditorium
DESCRIPTION:Join us for a SCIENCE FILLED LAB provided by Cool-ology, a han
 ds-on STEAM centered program that believes in learning by doing.Â The them
 e for this month is Powerful Pollinators. In this exciting program, kids w
 ill learn about pollinators like bees, butterflies, and birds, and how the
 y help plants make seeds and fruits. Through fun activities, children will
  discover why pollinators are important and how we can help protect them.Â
  
URL:https://events.blackstonelibrary.org/event/science-saturday-cool-ology
 -grades-k-4-31519
END:VEVENT
END:VCALENDAR
