BEGIN:VCALENDAR
VERSION:2.0
PRODID:-//Library Market//iCal Export//EN
BEGIN:VEVENT
SUMMARY:Teen Take N Makes: Campfire Cones
UID:31321
DTSTAMP:20260420T191300Z
DTSTART:20260803T130000Z
DTEND:20260804T000000Z
LOCATION:James Blackstone Memorial Library, 758 Main St, Branford, CT 0640
 5, United States
ROOM: Youth Services
DESCRIPTION:Drop-in event. Stop by the Teen Room today to pick up a kit to
  make your own ice cream cone filled with chocolate and marshmallows. Melt
  them over a campfire or in the oven at home to create a delicious treat. 
 No sign up is required but kits are limited. Sponsored by the Friends of 
 the Blackstone Library.  
URL:https://events.blackstonelibrary.org/event/teen-take-n-makes-campfire-
 cones-31321
END:VEVENT
END:VCALENDAR
