BEGIN:VCALENDAR
VERSION:2.0
PRODID:-//Library Market//iCal Export//EN
BEGIN:VEVENT
SUMMARY:The Ultimate Potato Chip Taste Test
UID:31313
DTSTAMP:20260420T154900Z
DTSTART:20260701T193000Z
DTEND:20260701T203000Z
LOCATION:James Blackstone Memorial Library, 758 Main St, Branford, CT 0640
 5, United States
ROOM: Auditorium
DESCRIPTION:Join us for the third annual ultimate potato chip taste test! 
 We’ll have plenty of flavors and varieties to try, and will vote for our
  top picks. Come hang out, listen to music, and decide on your favorite! F
 or teens and tweens in grades 5-12. Sponsored by the Friends of Blackston
 e Library. 
URL:https://events.blackstonelibrary.org/event/ultimate-potato-chip-taste-
 test-31313
END:VEVENT
END:VCALENDAR
