BEGIN:VCALENDAR
VERSION:2.0
PRODID:-//Library Market//iCal Export//EN
BEGIN:VEVENT
SUMMARY:Shakespeare&#039;s World : Seeing the World Through Shakespeare&#0
 39;s Eyes (Part I)
UID:30860
DTSTAMP:20260421T055000Z
DTSTART:20260504T210000Z
DTEND:20260504T230000Z
LOCATION:James Blackstone Memorial Library, 758 Main St, Branford, CT 0640
 5, United States
ROOM: Auditorium
DESCRIPTION:Join author and Producing Artistic Director Rebecca Goodheart 
 in four fascinating discussions about how the world looked to Shakespeare 
 and his audience and how that worldview shaped the plays. Each evening wil
 l look through a different lens at Shakespeare’s world, accompanied by m
 ini-performances of Shakespeare’s poetry and lively discussion about the
 ir meaning today.Part I : The Cosmos – What filled the heavens in 1600? 
 How does a spherical model with humanity at its center affect plays like A
 ntony &amp; Cleopatra, King John, or Romeo &amp; Juliet? What is the music
  of the spheres, and can we hear it today? 
URL:https://events.blackstonelibrary.org/event/elm-shakespeare-adult-progr
 am-30860
END:VEVENT
END:VCALENDAR
